BEGIN:VCALENDAR
VERSION:2.0
PRODID:-//Paardensportbathmen - ECPv6.15.17.1//NONSGML v1.0//EN
CALSCALE:GREGORIAN
METHOD:PUBLISH
X-WR-CALNAME:Paardensportbathmen
X-ORIGINAL-URL:https://www.paardensportbathmen.nl
X-WR-CALDESC:Evenementen voor Paardensportbathmen
REFRESH-INTERVAL;VALUE=DURATION:PT1H
X-Robots-Tag:noindex
X-PUBLISHED-TTL:PT1H
BEGIN:VTIMEZONE
TZID:Europe/Amsterdam
BEGIN:DAYLIGHT
TZOFFSETFROM:+0100
TZOFFSETTO:+0200
TZNAME:CEST
DTSTART:20240331T010000
END:DAYLIGHT
BEGIN:STANDARD
TZOFFSETFROM:+0200
TZOFFSETTO:+0100
TZNAME:CET
DTSTART:20241027T010000
END:STANDARD
BEGIN:DAYLIGHT
TZOFFSETFROM:+0100
TZOFFSETTO:+0200
TZNAME:CEST
DTSTART:20250330T010000
END:DAYLIGHT
BEGIN:STANDARD
TZOFFSETFROM:+0200
TZOFFSETTO:+0100
TZNAME:CET
DTSTART:20251026T010000
END:STANDARD
BEGIN:DAYLIGHT
TZOFFSETFROM:+0100
TZOFFSETTO:+0200
TZNAME:CEST
DTSTART:20260329T010000
END:DAYLIGHT
BEGIN:STANDARD
TZOFFSETFROM:+0200
TZOFFSETTO:+0100
TZNAME:CET
DTSTART:20261025T010000
END:STANDARD
BEGIN:DAYLIGHT
TZOFFSETFROM:+0100
TZOFFSETTO:+0200
TZNAME:CEST
DTSTART:20270328T010000
END:DAYLIGHT
BEGIN:STANDARD
TZOFFSETFROM:+0200
TZOFFSETTO:+0100
TZNAME:CET
DTSTART:20271031T010000
END:STANDARD
END:VTIMEZONE
BEGIN:VEVENT
DTSTART;VALUE=DATE:20251101
DTEND;VALUE=DATE:20251103
DTSTAMP:20260422T013240
CREATED:20251008T190858Z
LAST-MODIFIED:20251008T191502Z
UID:6380-1761955200-1762127999@www.paardensportbathmen.nl
SUMMARY:SGW Bathmen - 1 en 2 november 2025
DESCRIPTION:SGW Bathmen – 1 en 2 november 2025 \n1 en 2 november is het weer tijd voor de jaarlijkse samengestelde wedstrijd in Bathmen. Het Traasterbos staat dan weer in het teken van deze prachtige discipline. Kom gerust een rondje lopen in het bos en een borrel drinken bij de waterbak. \n 
URL:https://www.paardensportbathmen.nl/evenement/sgw-bathmen-1-en-2-november-2025/
LOCATION:Manege ’t Ruiterkamp\, Koekendijk 20\, Bathmen\, Overijssel\, 7437 CK\, Nederland
CATEGORIES:Accommodatie,RV Bathmen
ORGANIZER;CN="Manege 't Ruiterkamp":MAILTO:info@paardensportbathmen.nl
END:VEVENT
BEGIN:VEVENT
DTSTART;TZID=Europe/Amsterdam:20260228T130000
DTEND;TZID=Europe/Amsterdam:20260308T180000
DTSTAMP:20260422T013240
CREATED:20260228T104546Z
LAST-MODIFIED:20260303T123200Z
UID:4887-1772283600-1772992800@www.paardensportbathmen.nl
SUMMARY:Bathmen te Paard 2026
DESCRIPTION:Het belooft\, van zaterdag 28 februari t/m zaterdag 8 maart 2026\, een evenement te worden met topsport op hoog niveau! Uiteraard met de gezelligheid\, gastvrijheid en hartelijkheid die u van ons gewend bent! De ‘toppers’ van Bathmen te Paard blijven uiteraard in ons nieuwe programma behouden. Zo zal u het Indoor Driving Bathmen (Mennen)\, het springen en de Derby gewoon in ons programma terugvinden. Kortom\, een prachtig indoorprogramma voor elk wat wils! \nGRATIS ENTREE \nKlik hier voor een overzicht van het programma.
URL:https://www.paardensportbathmen.nl/evenement/bathmen-te-paard-2026/
LOCATION:‘t Ruiterkamp\, Koekendijk 20\, Bathmen\, Overijssel\, 7437 CK\, Nederland
CATEGORIES:Accommodatie,Koetsenvereniging,RV Bathmen
ATTACH;FMTTYPE=image/png:https://www.paardensportbathmen.nl/wp-content/uploads/2024/09/Schermafbeelding-2024-09-03-om-11.00.05.png
ORGANIZER;CN="Manege 't Ruiterkamp":MAILTO:info@paardensportbathmen.nl
END:VEVENT
BEGIN:VEVENT
DTSTART;VALUE=DATE:20260425
DTEND;VALUE=DATE:20260427
DTSTAMP:20260422T013240
CREATED:20260303T214139Z
LAST-MODIFIED:20260303T214241Z
UID:6600-1777075200-1777247999@www.paardensportbathmen.nl
SUMMARY:Trainingen en oefencross 25 en 26 April 2026
DESCRIPTION:Geef je op voor de crosstrainingen op 25 april of de oefencross op 26 april!!
URL:https://www.paardensportbathmen.nl/evenement/trainingen-en-oefencross-25-en-26-april-2026/
LOCATION:Manege ’t Ruiterkamp\, Koekendijk 20\, Bathmen\, Overijssel\, 7437 CK\, Nederland
CATEGORIES:Accommodatie,RV Bathmen
ATTACH;FMTTYPE=image/jpeg:https://www.paardensportbathmen.nl/wp-content/uploads/2026/03/Outdoor-Oefencross-Bathmen-2026-04-flyer.jpg
ORGANIZER;CN="Manege 't Ruiterkamp":MAILTO:info@paardensportbathmen.nl
END:VEVENT
END:VCALENDAR